BEGIN:VCALENDAR
VERSION:2.0
PRODID:-//TANZWERK - ECPv6.15.20//NONSGML v1.0//EN
CALSCALE:GREGORIAN
METHOD:PUBLISH
X-ORIGINAL-URL:https://tanzwerk-dreilaendereck.de
X-WR-CALDESC:Veranstaltungen für TANZWERK
REFRESH-INTERVAL;VALUE=DURATION:PT1H
X-Robots-Tag:noindex
X-PUBLISHED-TTL:PT1H
BEGIN:VTIMEZONE
TZID:Europe/Berlin
BEGIN:DAYLIGHT
TZOFFSETFROM:+0100
TZOFFSETTO:+0200
TZNAME:CEST
DTSTART:20230326T010000
END:DAYLIGHT
BEGIN:STANDARD
TZOFFSETFROM:+0200
TZOFFSETTO:+0100
TZNAME:CET
DTSTART:20231029T010000
END:STANDARD
BEGIN:DAYLIGHT
TZOFFSETFROM:+0100
TZOFFSETTO:+0200
TZNAME:CEST
DTSTART:20240331T010000
END:DAYLIGHT
BEGIN:STANDARD
TZOFFSETFROM:+0200
TZOFFSETTO:+0100
TZNAME:CET
DTSTART:20241027T010000
END:STANDARD
BEGIN:DAYLIGHT
TZOFFSETFROM:+0100
TZOFFSETTO:+0200
TZNAME:CEST
DTSTART:20250330T010000
END:DAYLIGHT
BEGIN:STANDARD
TZOFFSETFROM:+0200
TZOFFSETTO:+0100
TZNAME:CET
DTSTART:20251026T010000
END:STANDARD
BEGIN:DAYLIGHT
TZOFFSETFROM:+0100
TZOFFSETTO:+0200
TZNAME:CEST
DTSTART:20260329T010000
END:DAYLIGHT
BEGIN:STANDARD
TZOFFSETFROM:+0200
TZOFFSETTO:+0100
TZNAME:CET
DTSTART:20261025T010000
END:STANDARD
BEGIN:DAYLIGHT
TZOFFSETFROM:+0100
TZOFFSETTO:+0200
TZNAME:CEST
DTSTART:20270328T010000
END:DAYLIGHT
BEGIN:STANDARD
TZOFFSETFROM:+0200
TZOFFSETTO:+0100
TZNAME:CET
DTSTART:20271031T010000
END:STANDARD
END:VTIMEZONE
BEGIN:VEVENT
DTSTART;TZID=Europe/Berlin:20260403T170000
DTEND;TZID=Europe/Berlin:20260403T183000
DTSTAMP:20260420T102947
CREATED:20190307T112542Z
LAST-MODIFIED:20190307T112542Z
UID:32492-1775235600-1775241000@tanzwerk-dreilaendereck.de
SUMMARY:Body Expression (Auswahl)
DESCRIPTION:
URL:https://tanzwerk-dreilaendereck.de/kurs/body-expression-auswahl-2023-10-06/2026-04-03/
LOCATION:Tanzwerk Lörrach\, Marie-Curie-Straße 3\, Lörrach\, 79539\, Deutschland
CATEGORIES:Lörrach
ORGANIZER;CN="Mentor":MAILTO:kontakt@tanzwerk-dreilaendereck.de
GEO:47.6089438;7.6559785
X-APPLE-STRUCTURED-LOCATION;VALUE=URI;X-ADDRESS=Tanzwerk Lörrach Marie-Curie-Straße 3 Lörrach 79539 Deutschland;X-APPLE-RADIUS=500;X-TITLE=Marie-Curie-Straße 3:geo:7.6559785,47.6089438
END:VEVENT
BEGIN:VEVENT
DTSTART;TZID=Europe/Berlin:20260330T170000
DTEND;TZID=Europe/Berlin:20260330T180000
DTSTAMP:20260420T102947
CREATED:20190307T101627Z
LAST-MODIFIED:20190307T101627Z
UID:32061-1774890000-1774893600@tanzwerk-dreilaendereck.de
SUMMARY:Breakdance (Kin. & Jug.)
DESCRIPTION:Breakdance entwickelte sich Ende der 1970er Jahre in dem Stadtteil Bronx\, New York. \nNeben Rap\, Graffiti und Djing ist Breakdance eines der vier Elemente der Hip Hop Kultur. Im Breakdance verbindet sich der Tanz mit Kampf und Akrobatik. In unseren Kursen lernen die Kinder nicht nur Basics wie Toprocks\, Footworks\, Freezes oder Powermoves. Es liegt uns vor allem nahe\, die Individualität und Kreativität der Teilnehmenden zu fördern. Das Gespür für die Musik und für den eigenen Körper soll im Tanz erlernt werden.
URL:https://tanzwerk-dreilaendereck.de/kurs/breakdance-jug/2026-03-30/
LOCATION:Tanzwerk Lörrach\, Marie-Curie-Straße 3\, Lörrach\, 79539\, Deutschland
CATEGORIES:Lörrach
ORGANIZER;CN="Ersen":MAILTO:kontakt@tanzwerk-dreilaendereck.de
GEO:47.6089438;7.6559785
X-APPLE-STRUCTURED-LOCATION;VALUE=URI;X-ADDRESS=Tanzwerk Lörrach Marie-Curie-Straße 3 Lörrach 79539 Deutschland;X-APPLE-RADIUS=500;X-TITLE=Marie-Curie-Straße 3:geo:7.6559785,47.6089438
END:VEVENT
BEGIN:VEVENT
DTSTART;TZID=Europe/Berlin:20260330T160000
DTEND;TZID=Europe/Berlin:20260330T170000
DTSTAMP:20260420T102947
CREATED:20190307T101627Z
LAST-MODIFIED:20190307T101627Z
UID:32107-1774886400-1774890000@tanzwerk-dreilaendereck.de
SUMMARY:Breakdance (Kin.)
DESCRIPTION:Bei diesem Kurs sind keine Vorkenntnisse erforderlich und jedes Kind wird hier individuell gefördert. Neben den Basics des Breakdance\, welche aus tänzerischen sowie akrobatischen Elementen bestehen\, lernen die Kinder Kombinationen und Variationen von Schritten. Ein Gespür für Rhythmus und Takt entwickeln die Kinder beim Tanzen zur Musik und dem gemeinsamen Zählen.
URL:https://tanzwerk-dreilaendereck.de/kurs/breakdance-kin-3/2026-03-30/
LOCATION:Tanzwerk Lörrach\, Marie-Curie-Straße 3\, Lörrach\, 79539\, Deutschland
CATEGORIES:Lörrach
ORGANIZER;CN="Ersen":MAILTO:kontakt@tanzwerk-dreilaendereck.de
GEO:47.6089438;7.6559785
X-APPLE-STRUCTURED-LOCATION;VALUE=URI;X-ADDRESS=Tanzwerk Lörrach Marie-Curie-Straße 3 Lörrach 79539 Deutschland;X-APPLE-RADIUS=500;X-TITLE=Marie-Curie-Straße 3:geo:7.6559785,47.6089438
END:VEVENT
BEGIN:VEVENT
DTSTART;TZID=Europe/Berlin:20240719T160000
DTEND;TZID=Europe/Berlin:20240719T170000
DTSTAMP:20260420T102947
CREATED:20190307T100957Z
LAST-MODIFIED:20190307T100957Z
UID:25438-1721404800-1721408400@tanzwerk-dreilaendereck.de
SUMMARY:Breakdance Girls (Jug.) Fortgeschritten
DESCRIPTION:Dieser Kurs ist exklusiv nur für Mädchen gedacht. Neben den tänzerischen Grundschritten\, beschäftigen wir uns auch viel mit den akrobatischen Teilen des Breakdance. Damit die Mädchen sich den Tanz zu eigen machen können\, wird in diesem Kurs viel mit Konzept- und Themenimpulsen gearbeitet. Dies fördert die eigene Kreativität und verhindert eine starre\, regelgeleitete Tanzerfahrung. Der Spaß an der Vielfalt der Bewegung steht in diesem Kurs im Vordergrund.
URL:https://tanzwerk-dreilaendereck.de/kurs/breakdance-girls-kin-jug-2/2024-07-19/
LOCATION:Tanzwerk Lörrach\, Marie-Curie-Straße 3\, Lörrach\, 79539\, Deutschland
CATEGORIES:Lörrach
ORGANIZER;CN="Ersen":MAILTO:kontakt@tanzwerk-dreilaendereck.de
GEO:47.6089438;7.6559785
X-APPLE-STRUCTURED-LOCATION;VALUE=URI;X-ADDRESS=Tanzwerk Lörrach Marie-Curie-Straße 3 Lörrach 79539 Deutschland;X-APPLE-RADIUS=500;X-TITLE=Marie-Curie-Straße 3:geo:7.6559785,47.6089438
END:VEVENT
END:VCALENDAR